BEGIN:VCALENDAR
VERSION:2.0
PRODID:-//OGeez! - ECPv6.6.4.2//NONSGML v1.0//EN
CALSCALE:GREGORIAN
METHOD:PUBLISH
X-ORIGINAL-URL:https://ogeezbrands.com
X-WR-CALDESC:Events for OGeez!
REFRESH-INTERVAL;VALUE=DURATION:PT1H
X-Robots-Tag:noindex
X-PUBLISHED-TTL:PT1H
BEGIN:VTIMEZONE
TZID:America/Phoenix
BEGIN:STANDARD
TZOFFSETFROM:-0700
TZOFFSETTO:-0700
TZNAME:MST
DTSTART:20250101T000000
END:STANDARD
TZID:America/Chicago
BEGIN:DAYLIGHT
TZOFFSETFROM:-0600
TZOFFSETTO:-0500
TZNAME:CDT
DTSTART:20250309T080000
END:DAYLIGHT
BEGIN:STANDARD
TZOFFSETFROM:-0500
TZOFFSETTO:-0600
TZNAME:CST
DTSTART:20251102T070000
END:STANDARD
END:VTIMEZONE
BEGIN:VEVENT
DTSTART;VALUE=DATE:20251115
DTEND;VALUE=DATE:20251117
DTSTAMP:20260421T074321
CREATED:20251024T182009Z
LAST-MODIFIED:20251024T182048Z
UID:10047687-1763164800-1763337599@ogeezbrands.com
SUMMARY:DUSK
DESCRIPTION:
URL:https://ogeezbrands.com/event/dusk-2/
LOCATION:Jacome Plaza\, 101 N Stone Ave\, Tucson\, AZ\, 85017
CATEGORIES:Event
ATTACH;FMTTYPE=image/jpeg:https://ogeezbrands.com/wp-content/uploads/2025/10/dusk.jpg
END:VEVENT
BEGIN:VEVENT
DTSTART;VALUE=DATE:20251018
DTEND;VALUE=DATE:20251020
DTSTAMP:20260421T074321
CREATED:20250917T195736Z
LAST-MODIFIED:20250917T195736Z
UID:10046599-1760745600-1760918399@ogeezbrands.com
SUMMARY:Phoenix Pride
DESCRIPTION:
URL:https://ogeezbrands.com/event/phoenix-pride-2/
LOCATION:Steele Indian School Park\, 300 E Indian School Rd\, Phoenix\, AZ\, 85012
CATEGORIES:Event
ATTACH;FMTTYPE=image/jpeg:https://ogeezbrands.com/wp-content/uploads/2025/09/pride.jpg
END:VEVENT
BEGIN:VEVENT
DTSTART;VALUE=DATE:20250926
DTEND;VALUE=DATE:20250928
DTSTAMP:20260421T074321
CREATED:20250917T194910Z
LAST-MODIFIED:20250917T194910Z
UID:10046597-1758844800-1759017599@ogeezbrands.com
SUMMARY:Tempo
DESCRIPTION:
URL:https://ogeezbrands.com/event/tempo/
LOCATION:Civic Space Park\, Phoenix\, United States
CATEGORIES:Event
ATTACH;FMTTYPE=image/png:https://ogeezbrands.com/wp-content/uploads/2025/09/Screenshot-2025-09-17-at-12.48.11-PM.png
END:VEVENT
BEGIN:VEVENT
DTSTART;TZID=America/Chicago:20250829T140000
DTEND;TZID=America/Chicago:20250829T163000
DTSTAMP:20260421T074321
CREATED:20250807T172228Z
LAST-MODIFIED:20250807T172335Z
UID:10043870-1756476000-1756485000@ogeezbrands.com
SUMMARY:OGeez! Gummy Workshop @ Spark'd - Richmond Dispensary & Lounge 2PM-4:30PM
DESCRIPTION:
URL:https://ogeezbrands.com/event/ogeez-gummy-workshop-emerald-dispensary-lounge-2pm-430pm-copy-copy-copy/
LOCATION:Spark’d Dispensary – Richmond\, 9705 Prairie Ridge Road\, Richmond\, 60071\, United States
CATEGORIES:Event
ATTACH;FMTTYPE=image/png:https://ogeezbrands.com/wp-content/uploads/2025/05/GMW.png
END:VEVENT
BEGIN:VEVENT
DTSTART;TZID=America/Chicago:20250822T140000
DTEND;TZID=America/Chicago:20250822T163000
DTSTAMP:20260421T074321
CREATED:20250807T171600Z
LAST-MODIFIED:20250807T172125Z
UID:10043869-1755871200-1755880200@ogeezbrands.com
SUMMARY:OGeez! Gummy Workshop @ Emerald Dispensary & Lounge 2PM-4:30PM
DESCRIPTION:Ticket reservations: \nhttps://www.opentable.com/booking/experiences-availability?rid=1416904&restref=1416904&experienceId=524514&utm_source=external&utm_medium=referral&utm_campaign=shared \nhttps://eventhi.io/events/gummy-making-workshop-12386
URL:https://ogeezbrands.com/event/ogeez-gummy-workshop-emerald-dispensary-lounge-2pm-430pm-copy-copy/
LOCATION:Emerald Dispensary – Island Lake\, 660 E State Road\, Island Lake\, IL\, 60042\, United States
CATEGORIES:Event
ATTACH;FMTTYPE=image/png:https://ogeezbrands.com/wp-content/uploads/2025/05/GMW.png
END:VEVENT
BEGIN:VEVENT
DTSTART;TZID=America/Phoenix:20250809T130000
DTEND;TZID=America/Phoenix:20250809T180000
DTSTAMP:20260421T074321
CREATED:20250807T174714Z
LAST-MODIFIED:20250807T175010Z
UID:10043871-1754744400-1754762400@ogeezbrands.com
SUMMARY:OGeez! Bleed for Weed @ Maribis Dispensary (Denver)
DESCRIPTION:
URL:https://ogeezbrands.com/event/ogeez-bleed-for-weed-maribis-dispensary-denver/
LOCATION:Maribis Dispensary – Springfield (Denver Drive)\, 2451 Denver Drive\, Springfield\, 62702\, United States
CATEGORIES:Event
END:VEVENT
BEGIN:VEVENT
DTSTART;TZID=America/Phoenix:20250719T160000
DTEND;TZID=America/Phoenix:20250719T180000
DTSTAMP:20260421T074321
CREATED:20250626T205432Z
LAST-MODIFIED:20250626T205432Z
UID:10039174-1752940800-1752948000@ogeezbrands.com
SUMMARY:Summer Takeover
DESCRIPTION:
URL:https://ogeezbrands.com/event/summer-takeover-8/
LOCATION:Sticky Saguaro\, 12338 E Riggs Rd\, Chandler\, AZ\, 85249
CATEGORIES:Event
END:VEVENT
BEGIN:VEVENT
DTSTART;TZID=America/Phoenix:20250719T130000
DTEND;TZID=America/Phoenix:20250719T150000
DTSTAMP:20260421T074321
CREATED:20250626T205359Z
LAST-MODIFIED:20250626T205359Z
UID:10039173-1752930000-1752937200@ogeezbrands.com
SUMMARY:Summer Takeover
DESCRIPTION:
URL:https://ogeezbrands.com/event/summer-takeover-7/
LOCATION:Nature’s Wonder Dispensary- Apache Junction\, 260 W Apache Trail\, Apache Junction\, AZ\, 85120
CATEGORIES:Event
END:VEVENT
BEGIN:VEVENT
DTSTART;TZID=America/Phoenix:20250718T160000
DTEND;TZID=America/Phoenix:20250718T180000
DTSTAMP:20260421T074321
CREATED:20250626T205243Z
LAST-MODIFIED:20250626T205243Z
UID:10039172-1752854400-1752861600@ogeezbrands.com
SUMMARY:Summer Takeover
DESCRIPTION:
URL:https://ogeezbrands.com/event/summer-takeover-6/
LOCATION:Arizona Organix Dispensary\, 5301 W Glendale Ave\, Glendale\, AZ\, 85301
CATEGORIES:Event
END:VEVENT
BEGIN:VEVENT
DTSTART;TZID=America/Chicago:20250718T140000
DTEND;TZID=America/Chicago:20250718T163000
DTSTAMP:20260421T074321
CREATED:20250627T163751Z
LAST-MODIFIED:20250627T163849Z
UID:10039175-1752847200-1752856200@ogeezbrands.com
SUMMARY:OGeez! Gummy Workshop @ Emerald Dispensary & Lounge 2PM-4:30PM
DESCRIPTION:Ticket reservations: \nhttps://eventhi.io/events/the-ogeez-gummy-making-workshop-12228
URL:https://ogeezbrands.com/event/ogeez-gummy-workshop-emerald-dispensary-lounge-2pm-430pm-copy/
LOCATION:Emerald Dispensary – Island Lake\, 660 E State Road\, Island Lake\, IL\, 60042\, United States
CATEGORIES:Event
ATTACH;FMTTYPE=image/png:https://ogeezbrands.com/wp-content/uploads/2025/05/GMW.png
END:VEVENT
BEGIN:VEVENT
DTSTART;TZID=America/Chicago:20250718T140000
DTEND;TZID=America/Chicago:20250718T163000
DTSTAMP:20260421T074321
CREATED:20250522T192806Z
LAST-MODIFIED:20250522T192806Z
UID:10039116-1752847200-1752856200@ogeezbrands.com
SUMMARY:OGeez! Gummy Workshop @ Emerald Dispensary & Lounge 2PM-4:30PM
DESCRIPTION:
URL:https://ogeezbrands.com/event/ogeez-gummy-workshop-emerald-dispensary-lounge-2pm-430pm-2/
LOCATION:Emerald Dispensary – Island Lake\, 660 E State Road\, Island Lake\, IL\, 60042\, United States
CATEGORIES:Event
ATTACH;FMTTYPE=image/png:https://ogeezbrands.com/wp-content/uploads/2025/05/GMW.png
END:VEVENT
BEGIN:VEVENT
DTSTART;TZID=America/Phoenix:20250718T130000
DTEND;TZID=America/Phoenix:20250718T150000
DTSTAMP:20260421T074321
CREATED:20250626T205152Z
LAST-MODIFIED:20250626T205152Z
UID:10039171-1752843600-1752850800@ogeezbrands.com
SUMMARY:Summer Takeover
DESCRIPTION:
URL:https://ogeezbrands.com/event/summer-takeover-5/
LOCATION:Giving Tree Dispensary\, 701 W Union Hills Dr\, Phoenix\, AZ\, 85027
CATEGORIES:Event
END:VEVENT
BEGIN:VEVENT
DTSTART;TZID=America/Phoenix:20250711T160000
DTEND;TZID=America/Phoenix:20250711T180000
DTSTAMP:20260421T074321
CREATED:20250626T205104Z
LAST-MODIFIED:20250626T205104Z
UID:10039170-1752249600-1752256800@ogeezbrands.com
SUMMARY:Summer Takeover
DESCRIPTION:
URL:https://ogeezbrands.com/event/summer-takeover-4/
LOCATION:All Greens Dispensary Sun City\, 10032 W Bell Rd #100\, Sun City\, AZ\, 85351
CATEGORIES:Event
END:VEVENT
BEGIN:VEVENT
DTSTART;TZID=America/Phoenix:20250711T130000
DTEND;TZID=America/Phoenix:20250711T150000
DTSTAMP:20260421T074321
CREATED:20250626T205027Z
LAST-MODIFIED:20250626T205027Z
UID:10039169-1752238800-1752246000@ogeezbrands.com
SUMMARY:Summer Takeover
DESCRIPTION:
URL:https://ogeezbrands.com/event/summer-takeover-3/
LOCATION:Deeply Rooted\, 11725 NW Grand Ave\,\, El Mirage\, AZ\, 85335
CATEGORIES:Event
END:VEVENT
BEGIN:VEVENT
DTSTART;TZID=America/Phoenix:20250703T160000
DTEND;TZID=America/Phoenix:20250703T180000
DTSTAMP:20260421T074321
CREATED:20250626T204905Z
LAST-MODIFIED:20250626T204905Z
UID:10039168-1751558400-1751565600@ogeezbrands.com
SUMMARY:Summer Takeover
DESCRIPTION:
URL:https://ogeezbrands.com/event/summer-takeover-2/
LOCATION:Health for Life – Crismon\, 9949 E Apache Trail\, Mesa\, AZ\, 85207
CATEGORIES:Event
END:VEVENT
BEGIN:VEVENT
DTSTART;TZID=America/Phoenix:20250703T130000
DTEND;TZID=America/Phoenix:20250703T150000
DTSTAMP:20260421T074321
CREATED:20250626T204723Z
LAST-MODIFIED:20250626T204805Z
UID:10039167-1751547600-1751554800@ogeezbrands.com
SUMMARY:Summer Takeover
DESCRIPTION:
URL:https://ogeezbrands.com/event/summer-takeover/
LOCATION:Zen Leaf Gilbert\, 5409 S Power Rd\, Mesa\, AZ\, 85212
CATEGORIES:Event
END:VEVENT
BEGIN:VEVENT
DTSTART;TZID=America/Chicago:20250626T140000
DTEND;TZID=America/Chicago:20250626T163000
DTSTAMP:20260421T074321
CREATED:20250529T154857Z
LAST-MODIFIED:20250602T195444Z
UID:10039118-1750946400-1750955400@ogeezbrands.com
SUMMARY:OGeez! Gummy Workshop @ Spark'd Dispensary & Lounge - Winthrop Harbor 2PM-4:30PM
DESCRIPTION:https://eventhi.io/events/the-ogeez-gummy-making-workshop-12051
URL:https://ogeezbrands.com/event/ogeez-gummy-workshop-emerald-dispensary-lounge-2pm-430pm-3/
LOCATION:Spark’d Dispensary – Winthrop Harbor\, 935 Sheridan Road\, Winthrop Harbor\, 60096\, United States
CATEGORIES:Event
ATTACH;FMTTYPE=image/png:https://ogeezbrands.com/wp-content/uploads/2025/05/GMW.png
END:VEVENT
BEGIN:VEVENT
DTSTART;TZID=America/Chicago:20250620T120000
DTEND;TZID=America/Chicago:20250620T140000
DTSTAMP:20260421T074321
CREATED:20250522T191444Z
LAST-MODIFIED:20250522T191444Z
UID:10039004-1750420800-1750428000@ogeezbrands.com
SUMMARY:OGeez! Pop-Up @ nuEra - Dekalb 12PM-2PM
DESCRIPTION:
URL:https://ogeezbrands.com/event/ogeez-pop-up-nuera-dekalb-12pm-2pm/
LOCATION:nuEra Dispensary – DeKalb\, 818 W Lincoln Hwy Space #7\, Dekalb\, IL\, 60115\, United States
CATEGORIES:Event
ATTACH;FMTTYPE=image/png:https://ogeezbrands.com/wp-content/uploads/2025/05/nuEra.png
END:VEVENT
BEGIN:VEVENT
DTSTART;TZID=America/Chicago:20250614T190000
DTEND;TZID=America/Chicago:20250614T230000
DTSTAMP:20260421T074321
CREATED:20250522T184818Z
LAST-MODIFIED:20250522T184818Z
UID:10038996-1749927600-1749942000@ogeezbrands.com
SUMMARY:OGeez! @ Love Fest at Rainbow Unicorn 7PM-11PM
DESCRIPTION:
URL:https://ogeezbrands.com/event/ogeez-love-fest-at-rainbow-unicorn-7pm-11pm/
LOCATION:Rainbow Unicorn\, 964 W Belmont Ave\, Chicago\, IL\, 60657\, United States
CATEGORIES:Event
END:VEVENT
BEGIN:VEVENT
DTSTART;TZID=America/Chicago:20250614T120000
DTEND;TZID=America/Chicago:20250614T170000
DTSTAMP:20260421T074321
CREATED:20250522T185100Z
LAST-MODIFIED:20250522T185100Z
UID:10038997-1749902400-1749920400@ogeezbrands.com
SUMMARY:OGeez! Bleed for Weed @ Maribis - Lindbergh [World Donor Day] 12PM-5PM
DESCRIPTION:
URL:https://ogeezbrands.com/event/ogeez-bleed-for-weed-maribis-lindbergh-world-donor-day-12pm-5pm/
LOCATION:Maribis Dispensary – Springfield (Lindbergh Boulevard)\, 3025 Lindbergh Boulevard\, Springfield\, IL\, 62704\, United States
CATEGORIES:Event
ATTACH;FMTTYPE=image/png:https://ogeezbrands.com/wp-content/uploads/2025/05/Bleed4Weed.png
END:VEVENT
BEGIN:VEVENT
DTSTART;TZID=America/Chicago:20250613T140000
DTEND;TZID=America/Chicago:20250613T163000
DTSTAMP:20260421T074321
CREATED:20250522T184458Z
LAST-MODIFIED:20250523T171720Z
UID:10038995-1749823200-1749832200@ogeezbrands.com
SUMMARY:OGeez! Gummy Workshop @ Emerald Dispensary & Lounge 2PM-4:30PM
DESCRIPTION:Ticket reservations: \nhttps://eventhi.io/events/the-ogeez-gummy-making-workshop-11949
URL:https://ogeezbrands.com/event/ogeez-gummy-workshop-emerald-dispensary-lounge-2pm-430pm/
LOCATION:Emerald Dispensary – Island Lake\, 660 E State Road\, Island Lake\, IL\, 60042\, United States
CATEGORIES:Event
ATTACH;FMTTYPE=image/png:https://ogeezbrands.com/wp-content/uploads/2025/05/GMW.png
END:VEVENT
BEGIN:VEVENT
DTSTART;TZID=America/Chicago:20250609T190000
DTEND;TZID=America/Chicago:20250609T220000
DTSTAMP:20260421T074321
CREATED:20250522T183928Z
LAST-MODIFIED:20250522T183928Z
UID:10038939-1749495600-1749506400@ogeezbrands.com
SUMMARY:OGeez! @ Benzinga Afterparty 7PM-10PM
DESCRIPTION:
URL:https://ogeezbrands.com/event/ogeez-benzinga-afterparty-7pm-10pm/
LOCATION:AZ
CATEGORIES:Event
END:VEVENT
BEGIN:VEVENT
DTSTART;TZID=America/Chicago:20250530T140000
DTEND;TZID=America/Chicago:20250530T170000
DTSTAMP:20260421T074321
CREATED:20250521T195547Z
LAST-MODIFIED:20250523T171939Z
UID:10038637-1748613600-1748624400@ogeezbrands.com
SUMMARY:OGeez! Arcade @ Emerald Lounge 2PM-5PM
DESCRIPTION:Ticket Reservations:\nhttps://eventhi.io/events/the-ogeez-arcade-experience-11797
URL:https://ogeezbrands.com/event/ogeez-arcade-emerald-lounge-2pm-5pm/
LOCATION:Emerald Dispensary – Island Lake\, 660 E State Road\, Island Lake\, IL\, 60042\, United States
CATEGORIES:Event
ATTACH;FMTTYPE=image/jpeg:https://ogeezbrands.com/wp-content/uploads/2025/05/Emerald.jpg
END:VEVENT
BEGIN:VEVENT
DTSTART;TZID=America/Chicago:20250530T120000
DTEND;TZID=America/Chicago:20250530T150000
DTSTAMP:20260421T074321
CREATED:20250522T135048Z
LAST-MODIFIED:20250522T135048Z
UID:10038644-1748606400-1748617200@ogeezbrands.com
SUMMARY:OGeez! Pop-Up @ Alitus - Round Lake Beach 12PM-3PM
DESCRIPTION:
URL:https://ogeezbrands.com/event/ogeez-pop-up-alitus-round-lake-beach-12pm-3pm-2/
LOCATION:AZ
CATEGORIES:Event
ATTACH;FMTTYPE=image/jpeg:https://ogeezbrands.com/wp-content/uploads/2025/05/Altius-1.jpg
END:VEVENT
BEGIN:VEVENT
DTSTART;TZID=America/Phoenix:20250530T120000
DTEND;TZID=America/Phoenix:20250530T150000
DTSTAMP:20260421T074321
CREATED:20250521T200340Z
LAST-MODIFIED:20250521T200340Z
UID:10038641-1748606400-1748617200@ogeezbrands.com
SUMMARY:OGeez! Pop-Up @ Alitus Round Lake Beach 12PM-3PM
DESCRIPTION:
URL:https://ogeezbrands.com/event/ogeez-pop-up-alitus-round-lake-beach-12pm-3pm/
LOCATION:Altius Dispensary – Round Lake Beach\, 993 E Rollins Road\, Round Lake Beach\, IL\, 60073\, United States
CATEGORIES:Event
ATTACH;FMTTYPE=image/jpeg:https://ogeezbrands.com/wp-content/uploads/2025/05/Altius-1.jpg
END:VEVENT
BEGIN:VEVENT
DTSTART;TZID=America/Phoenix:20250530T063000
DTEND;TZID=America/Phoenix:20250530T213000
DTSTAMP:20260421T074321
CREATED:20250521T200217Z
LAST-MODIFIED:20250521T200217Z
UID:10038640-1748586600-1748640600@ogeezbrands.com
SUMMARY:OGeez! Trivia Night @ Emerald Dispensary & Lounge 6:30PM-9:30PM
DESCRIPTION:
URL:https://ogeezbrands.com/event/ogeez-trivia-night-emerald-dispensary-lounge-630pm-930pm/
LOCATION:Emerald Dispensary – Island Lake\, 660 E State Road\, Island Lake\, IL\, 60042\, United States
CATEGORIES:Event
ATTACH;FMTTYPE=image/jpeg:https://ogeezbrands.com/wp-content/uploads/2025/05/Emerald.jpg
END:VEVENT
BEGIN:VEVENT
DTSTART;TZID=America/Chicago:20250525T100000
DTEND;TZID=America/Chicago:20250525T130000
DTSTAMP:20260421T074321
CREATED:20250521T182609Z
LAST-MODIFIED:20250521T184755Z
UID:10038626-1748167200-1748178000@ogeezbrands.com
SUMMARY:OGeez! Pop-Up @ Aroma Hill - Peoria 10AM-1PM
DESCRIPTION:
URL:https://ogeezbrands.com/event/ogeez-pop-up-aroma-hill-peoria-10am-1pm/
LOCATION:Aroma Hill – Peoria\, 1204 W Glen Avenue\, Peoria\, 61614\, United States
CATEGORIES:Event
ATTACH;FMTTYPE=image/jpeg:https://ogeezbrands.com/wp-content/uploads/2025/05/Aroma-Hill.jpg
END:VEVENT
BEGIN:VEVENT
DTSTART;TZID=America/Chicago:20250523T150000
DTEND;TZID=America/Chicago:20250523T180000
DTSTAMP:20260421T074321
CREATED:20250521T163914Z
LAST-MODIFIED:20250521T173513Z
UID:10038615-1748012400-1748023200@ogeezbrands.com
SUMMARY:OGeez! Pop-Up @ Aroma Hill - Hoffman Estates 3PM-6PM
DESCRIPTION:
URL:https://ogeezbrands.com/event/pop-up-aroma-hill-hoffman-estates-3pm-6pm/
LOCATION:Aroma Hill – Hoffman Estates\, 1237 Barrington Road\, Hoffman Estates\, IL\, 60169\, United States
CATEGORIES:Event
ATTACH;FMTTYPE=image/jpeg:https://ogeezbrands.com/wp-content/uploads/2025/05/Aroma-Hill.jpg
END:VEVENT
BEGIN:VEVENT
DTSTART;VALUE=DATE:20250523
DTEND;VALUE=DATE:20250524
DTSTAMP:20260421T074321
CREATED:20250521T164251Z
LAST-MODIFIED:20250521T173727Z
UID:10038616-1747958400-1748044799@ogeezbrands.com
SUMMARY:CANNAVERSARY OGeez! Pop-Up @ nuEra - Dekalb
DESCRIPTION:
URL:https://ogeezbrands.com/event/cannaversary-pop-up-nuera-dekalb/
LOCATION:nuEra Dispensary – DeKalb\, 818 W Lincoln Hwy Space #7\, Dekalb\, IL\, 60115\, United States
CATEGORIES:Event
ATTACH;FMTTYPE=image/png:https://ogeezbrands.com/wp-content/uploads/2025/05/nuEra.png
END:VEVENT
BEGIN:VEVENT
DTSTART;TZID=America/Chicago:20250522T150000
DTEND;TZID=America/Chicago:20250522T170000
DTSTAMP:20260421T074321
CREATED:20250521T160731Z
LAST-MODIFIED:20250521T173857Z
UID:10038610-1747926000-1747933200@ogeezbrands.com
SUMMARY:OGeez! Educational Event @ Spark'd - South Loop 3PM-5PM
DESCRIPTION:
URL:https://ogeezbrands.com/event/educational-event-sparkd-south-loop-3pm-5pm/
LOCATION:Spark’d Dispensary – South Loop (Wabash)\, 2114 S Wabash Avenue\, Chicago\, 60616\, United States
CATEGORIES:Event
ATTACH;FMTTYPE=image/jpeg:https://ogeezbrands.com/wp-content/uploads/2025/05/Sparkd.jpg
END:VEVENT
END:VCALENDAR