BEGIN:VCALENDAR
VERSION:2.0
PRODID:-//OGeez! - ECPv6.6.4.2//NONSGML v1.0//EN
CALSCALE:GREGORIAN
METHOD:PUBLISH
X-WR-CALNAME:OGeez!
X-ORIGINAL-URL:https://ogeezbrands.com
X-WR-CALDESC:Events for OGeez!
REFRESH-INTERVAL;VALUE=DURATION:PT1H
X-Robots-Tag:noindex
X-PUBLISHED-TTL:PT1H
BEGIN:VTIMEZONE
TZID:America/Phoenix
BEGIN:STANDARD
TZOFFSETFROM:-0700
TZOFFSETTO:-0700
TZNAME:MST
DTSTART:20240101T000000
END:STANDARD
TZID:America/Chicago
BEGIN:DAYLIGHT
TZOFFSETFROM:-0600
TZOFFSETTO:-0500
TZNAME:CDT
DTSTART:20250309T080000
END:DAYLIGHT
BEGIN:STANDARD
TZOFFSETFROM:-0500
TZOFFSETTO:-0600
TZNAME:CST
DTSTART:20251102T070000
END:STANDARD
END:VTIMEZONE
BEGIN:VEVENT
DTSTART;TZID=America/Phoenix:20250530T120000
DTEND;TZID=America/Phoenix:20250530T150000
DTSTAMP:20260421T074330
CREATED:20250521T200340Z
LAST-MODIFIED:20250521T200340Z
UID:10038641-1748606400-1748617200@ogeezbrands.com
SUMMARY:OGeez! Pop-Up @ Alitus Round Lake Beach 12PM-3PM
DESCRIPTION:
URL:https://ogeezbrands.com/event/ogeez-pop-up-alitus-round-lake-beach-12pm-3pm/
LOCATION:Altius Dispensary – Round Lake Beach\, 993 E Rollins Road\, Round Lake Beach\, IL\, 60073\, United States
CATEGORIES:Event
ATTACH;FMTTYPE=image/jpeg:https://ogeezbrands.com/wp-content/uploads/2025/05/Altius-1.jpg
END:VEVENT
BEGIN:VEVENT
DTSTART;TZID=America/Phoenix:20250530T063000
DTEND;TZID=America/Phoenix:20250530T213000
DTSTAMP:20260421T074330
CREATED:20250521T200217Z
LAST-MODIFIED:20250521T200217Z
UID:10038640-1748586600-1748640600@ogeezbrands.com
SUMMARY:OGeez! Trivia Night @ Emerald Dispensary & Lounge 6:30PM-9:30PM
DESCRIPTION:
URL:https://ogeezbrands.com/event/ogeez-trivia-night-emerald-dispensary-lounge-630pm-930pm/
LOCATION:Emerald Dispensary – Island Lake\, 660 E State Road\, Island Lake\, IL\, 60042\, United States
CATEGORIES:Event
ATTACH;FMTTYPE=image/jpeg:https://ogeezbrands.com/wp-content/uploads/2025/05/Emerald.jpg
END:VEVENT
BEGIN:VEVENT
DTSTART;TZID=America/Chicago:20250525T100000
DTEND;TZID=America/Chicago:20250525T130000
DTSTAMP:20260421T074330
CREATED:20250521T182609Z
LAST-MODIFIED:20250521T184755Z
UID:10038626-1748167200-1748178000@ogeezbrands.com
SUMMARY:OGeez! Pop-Up @ Aroma Hill - Peoria 10AM-1PM
DESCRIPTION:
URL:https://ogeezbrands.com/event/ogeez-pop-up-aroma-hill-peoria-10am-1pm/
LOCATION:Aroma Hill – Peoria\, 1204 W Glen Avenue\, Peoria\, 61614\, United States
CATEGORIES:Event
ATTACH;FMTTYPE=image/jpeg:https://ogeezbrands.com/wp-content/uploads/2025/05/Aroma-Hill.jpg
END:VEVENT
BEGIN:VEVENT
DTSTART;TZID=America/Chicago:20250523T150000
DTEND;TZID=America/Chicago:20250523T180000
DTSTAMP:20260421T074330
CREATED:20250521T163914Z
LAST-MODIFIED:20250521T173513Z
UID:10038615-1748012400-1748023200@ogeezbrands.com
SUMMARY:OGeez! Pop-Up @ Aroma Hill - Hoffman Estates 3PM-6PM
DESCRIPTION:
URL:https://ogeezbrands.com/event/pop-up-aroma-hill-hoffman-estates-3pm-6pm/
LOCATION:Aroma Hill – Hoffman Estates\, 1237 Barrington Road\, Hoffman Estates\, IL\, 60169\, United States
CATEGORIES:Event
ATTACH;FMTTYPE=image/jpeg:https://ogeezbrands.com/wp-content/uploads/2025/05/Aroma-Hill.jpg
END:VEVENT
BEGIN:VEVENT
DTSTART;VALUE=DATE:20250523
DTEND;VALUE=DATE:20250524
DTSTAMP:20260421T074330
CREATED:20250521T164251Z
LAST-MODIFIED:20250521T173727Z
UID:10038616-1747958400-1748044799@ogeezbrands.com
SUMMARY:CANNAVERSARY OGeez! Pop-Up @ nuEra - Dekalb
DESCRIPTION:
URL:https://ogeezbrands.com/event/cannaversary-pop-up-nuera-dekalb/
LOCATION:nuEra Dispensary – DeKalb\, 818 W Lincoln Hwy Space #7\, Dekalb\, IL\, 60115\, United States
CATEGORIES:Event
ATTACH;FMTTYPE=image/png:https://ogeezbrands.com/wp-content/uploads/2025/05/nuEra.png
END:VEVENT
BEGIN:VEVENT
DTSTART;TZID=America/Chicago:20250522T150000
DTEND;TZID=America/Chicago:20250522T170000
DTSTAMP:20260421T074330
CREATED:20250521T160731Z
LAST-MODIFIED:20250521T173857Z
UID:10038610-1747926000-1747933200@ogeezbrands.com
SUMMARY:OGeez! Educational Event @ Spark'd - South Loop 3PM-5PM
DESCRIPTION:
URL:https://ogeezbrands.com/event/educational-event-sparkd-south-loop-3pm-5pm/
LOCATION:Spark’d Dispensary – South Loop (Wabash)\, 2114 S Wabash Avenue\, Chicago\, 60616\, United States
CATEGORIES:Event
ATTACH;FMTTYPE=image/jpeg:https://ogeezbrands.com/wp-content/uploads/2025/05/Sparkd.jpg
END:VEVENT
BEGIN:VEVENT
DTSTART;TZID=America/Chicago:20250522T110000
DTEND;TZID=America/Chicago:20250522T130000
DTSTAMP:20260421T074330
CREATED:20250522T135423Z
LAST-MODIFIED:20250522T135423Z
UID:10038645-1747911600-1747918800@ogeezbrands.com
SUMMARY:OGeez! Pop-Up @ Consume - Oakbrook Terrace 11AM-1PM
DESCRIPTION:
URL:https://ogeezbrands.com/event/ogeez-pop-up-consume-oakbrook-terrace-11am-1pm/
LOCATION:Consume Cannabis – Oakbrook Terrace\, 1S130 Summit Avenue\, Oakbrook Terrace\, 60181\, United States
CATEGORIES:Event
ATTACH;FMTTYPE=image/png:https://ogeezbrands.com/wp-content/uploads/2025/05/Consume.png
END:VEVENT
BEGIN:VEVENT
DTSTART;VALUE=DATE:20250521
DTEND;VALUE=DATE:20250522
DTSTAMP:20260421T074330
CREATED:20250521T160221Z
LAST-MODIFIED:20250521T173937Z
UID:10038609-1747785600-1747871999@ogeezbrands.com
SUMMARY:OGeez! Pop-up @ Aroma Hill - Kankakee 12PM
DESCRIPTION:
URL:https://ogeezbrands.com/event/aroma-hill-kankakee-pop-up-12pm/
LOCATION:Aroma Hill – Kankakee\, 2255 E Court Street\, Kankakee\, 60901\, United States
CATEGORIES:Event
ATTACH;FMTTYPE=image/jpeg:https://ogeezbrands.com/wp-content/uploads/2025/05/Aroma-Hill.jpg
END:VEVENT
BEGIN:VEVENT
DTSTART;VALUE=DATE:20250307
DTEND;VALUE=DATE:20250309
DTSTAMP:20260421T074330
CREATED:20250227T194149Z
LAST-MODIFIED:20250227T194157Z
UID:10034848-1741305600-1741478399@ogeezbrands.com
SUMMARY:M3F MUSIC FESTIVAL
DESCRIPTION:
URL:https://ogeezbrands.com/event/m3f-music-fesitval/
LOCATION:IL
CATEGORIES:Event
ATTACH;FMTTYPE=image/jpeg:https://ogeezbrands.com/wp-content/uploads/2025/02/M3F2025__2DayLineup_1080x1080-scaled.jpg
END:VEVENT
BEGIN:VEVENT
DTSTART;TZID=America/Phoenix:20250228T170000
DTEND;TZID=America/Phoenix:20250228T220000
DTSTAMP:20260421T074330
CREATED:20250213T191050Z
LAST-MODIFIED:20250213T191050Z
UID:10034142-1740762000-1740780000@ogeezbrands.com
SUMMARY:Rialto Theatre
DESCRIPTION:
URL:https://ogeezbrands.com/event/rialto-theatre-3/2025-02-28/
LOCATION:Rialto Theatre\, 318 E. Congress St.\, Tucson\, AZ\, 85701
CATEGORIES:Event
END:VEVENT
BEGIN:VEVENT
DTSTART;TZID=America/Phoenix:20250225T170000
DTEND;TZID=America/Phoenix:20250225T220000
DTSTAMP:20260421T074330
CREATED:20250213T191050Z
LAST-MODIFIED:20250213T191050Z
UID:10034141-1740502800-1740520800@ogeezbrands.com
SUMMARY:Rialto Theatre
DESCRIPTION:
URL:https://ogeezbrands.com/event/rialto-theatre-3/2025-02-25/
LOCATION:Rialto Theatre\, 318 E. Congress St.\, Tucson\, AZ\, 85701
CATEGORIES:Event
END:VEVENT
BEGIN:VEVENT
DTSTART;TZID=America/Phoenix:20250220T170000
DTEND;TZID=America/Phoenix:20250220T220000
DTSTAMP:20260421T074330
CREATED:20250213T191050Z
LAST-MODIFIED:20250213T191050Z
UID:10034140-1740070800-1740088800@ogeezbrands.com
SUMMARY:Rialto Theatre
DESCRIPTION:
URL:https://ogeezbrands.com/event/rialto-theatre-3/2025-02-20/
LOCATION:Rialto Theatre\, 318 E. Congress St.\, Tucson\, AZ\, 85701
CATEGORIES:Event
END:VEVENT
BEGIN:VEVENT
DTSTART;TZID=America/Phoenix:20250215T170000
DTEND;TZID=America/Phoenix:20250215T220000
DTSTAMP:20260421T074330
CREATED:20250213T191050Z
LAST-MODIFIED:20250213T191050Z
UID:10034139-1739638800-1739656800@ogeezbrands.com
SUMMARY:Rialto Theatre
DESCRIPTION:
URL:https://ogeezbrands.com/event/rialto-theatre-3/2025-02-15/
LOCATION:Rialto Theatre\, 318 E. Congress St.\, Tucson\, AZ\, 85701
CATEGORIES:Event
END:VEVENT
BEGIN:VEVENT
DTSTART;TZID=America/Phoenix:20241221T170000
DTEND;TZID=America/Phoenix:20241221T220000
DTSTAMP:20260421T074330
CREATED:20250213T190840Z
LAST-MODIFIED:20250213T190840Z
UID:10034138-1734800400-1734818400@ogeezbrands.com
SUMMARY:Rialto Theatre
DESCRIPTION:
URL:https://ogeezbrands.com/event/rialto-theatre-2-2/
LOCATION:Rialto Theatre\, 318 E. Congress St.\, Tucson\, AZ\, 85701
CATEGORIES:Event
ATTACH;FMTTYPE=image/webp:https://ogeezbrands.com/wp-content/uploads/2024/08/rialto-1.webp
END:VEVENT
BEGIN:VEVENT
DTSTART;TZID=America/Phoenix:20241221T170000
DTEND;TZID=America/Phoenix:20241221T220000
DTSTAMP:20260421T074330
CREATED:20240930T173821Z
LAST-MODIFIED:20241122T191154Z
UID:10026787-1734800400-1734818400@ogeezbrands.com
SUMMARY:Rialto Theatre
DESCRIPTION:
URL:https://ogeezbrands.com/event/orpheum-theater/2024-12-21/
LOCATION:Rialto Theatre\, 318 E. Congress St.\, Tucson\, AZ\, 85701
CATEGORIES:Event
ATTACH;FMTTYPE=image/webp:https://ogeezbrands.com/wp-content/uploads/2024/08/rialto-1.webp
END:VEVENT
BEGIN:VEVENT
DTSTART;TZID=America/Phoenix:20241220T170000
DTEND;TZID=America/Phoenix:20241220T220000
DTSTAMP:20260421T074331
CREATED:20250213T190736Z
LAST-MODIFIED:20250213T190736Z
UID:10034137-1734714000-1734732000@ogeezbrands.com
SUMMARY:Rialto Theatre
DESCRIPTION:
URL:https://ogeezbrands.com/event/rialto-theatre-2/2024-12-20/
LOCATION:Rialto Theatre\, 318 E. Congress St.\, Tucson\, AZ\, 85701
CATEGORIES:Event
ATTACH;FMTTYPE=image/webp:https://ogeezbrands.com/wp-content/uploads/2024/08/rialto-1.webp
END:VEVENT
BEGIN:VEVENT
DTSTART;TZID=America/Phoenix:20241220T170000
DTEND;TZID=America/Phoenix:20241220T220000
DTSTAMP:20260421T074331
CREATED:20240930T173821Z
LAST-MODIFIED:20241122T191154Z
UID:10026786-1734714000-1734732000@ogeezbrands.com
SUMMARY:Rialto Theatre
DESCRIPTION:
URL:https://ogeezbrands.com/event/orpheum-theater/2024-12-20/
LOCATION:Rialto Theatre\, 318 E. Congress St.\, Tucson\, AZ\, 85701
CATEGORIES:Event
ATTACH;FMTTYPE=image/webp:https://ogeezbrands.com/wp-content/uploads/2024/08/rialto-1.webp
END:VEVENT
BEGIN:VEVENT
DTSTART;TZID=America/Phoenix:20241214T170000
DTEND;TZID=America/Phoenix:20241214T220000
DTSTAMP:20260421T074331
CREATED:20250213T190736Z
LAST-MODIFIED:20250213T190736Z
UID:10034136-1734195600-1734213600@ogeezbrands.com
SUMMARY:Rialto Theatre
DESCRIPTION:
URL:https://ogeezbrands.com/event/rialto-theatre-2/2024-12-14/
LOCATION:Rialto Theatre\, 318 E. Congress St.\, Tucson\, AZ\, 85701
CATEGORIES:Event
ATTACH;FMTTYPE=image/webp:https://ogeezbrands.com/wp-content/uploads/2024/08/rialto-1.webp
END:VEVENT
BEGIN:VEVENT
DTSTART;TZID=America/Phoenix:20241214T170000
DTEND;TZID=America/Phoenix:20241214T220000
DTSTAMP:20260421T074331
CREATED:20240930T173821Z
LAST-MODIFIED:20241122T191154Z
UID:10026785-1734195600-1734213600@ogeezbrands.com
SUMMARY:Rialto Theatre
DESCRIPTION:
URL:https://ogeezbrands.com/event/orpheum-theater/2024-12-14/
LOCATION:Rialto Theatre\, 318 E. Congress St.\, Tucson\, AZ\, 85701
CATEGORIES:Event
ATTACH;FMTTYPE=image/webp:https://ogeezbrands.com/wp-content/uploads/2024/08/rialto-1.webp
END:VEVENT
BEGIN:VEVENT
DTSTART;TZID=America/Phoenix:20241213T170000
DTEND;TZID=America/Phoenix:20241213T220000
DTSTAMP:20260421T074331
CREATED:20250213T190736Z
LAST-MODIFIED:20250213T190736Z
UID:10034135-1734109200-1734127200@ogeezbrands.com
SUMMARY:Rialto Theatre
DESCRIPTION:
URL:https://ogeezbrands.com/event/rialto-theatre-2/2024-12-13/
LOCATION:Rialto Theatre\, 318 E. Congress St.\, Tucson\, AZ\, 85701
CATEGORIES:Event
ATTACH;FMTTYPE=image/webp:https://ogeezbrands.com/wp-content/uploads/2024/08/rialto-1.webp
END:VEVENT
BEGIN:VEVENT
DTSTART;TZID=America/Phoenix:20241213T170000
DTEND;TZID=America/Phoenix:20241213T220000
DTSTAMP:20260421T074331
CREATED:20240930T173821Z
LAST-MODIFIED:20241122T191154Z
UID:10026784-1734109200-1734127200@ogeezbrands.com
SUMMARY:Rialto Theatre
DESCRIPTION:
URL:https://ogeezbrands.com/event/orpheum-theater/2024-12-13/
LOCATION:Rialto Theatre\, 318 E. Congress St.\, Tucson\, AZ\, 85701
CATEGORIES:Event
ATTACH;FMTTYPE=image/webp:https://ogeezbrands.com/wp-content/uploads/2024/08/rialto-1.webp
END:VEVENT
BEGIN:VEVENT
DTSTART;TZID=America/Phoenix:20241213T170000
DTEND;TZID=America/Phoenix:20241213T200000
DTSTAMP:20260421T074331
CREATED:20241202T180336Z
LAST-MODIFIED:20241202T180448Z
UID:10026788-1734109200-1734120000@ogeezbrands.com
SUMMARY:Huxton+Friends Holiday Market
DESCRIPTION:
URL:https://ogeezbrands.com/event/huxton-holiday-market/
LOCATION:IL
CATEGORIES:Event
ATTACH;FMTTYPE=image/png:https://ogeezbrands.com/wp-content/uploads/2024/12/Holiday-Market-1080x1080-1.png
END:VEVENT
BEGIN:VEVENT
DTSTART;TZID=America/Phoenix:20241211T170000
DTEND;TZID=America/Phoenix:20241211T220000
DTSTAMP:20260421T074331
CREATED:20250213T190736Z
LAST-MODIFIED:20250213T190736Z
UID:10034134-1733936400-1733954400@ogeezbrands.com
SUMMARY:Rialto Theatre
DESCRIPTION:
URL:https://ogeezbrands.com/event/rialto-theatre-2/2024-12-11/
LOCATION:Rialto Theatre\, 318 E. Congress St.\, Tucson\, AZ\, 85701
CATEGORIES:Event
ATTACH;FMTTYPE=image/webp:https://ogeezbrands.com/wp-content/uploads/2024/08/rialto-1.webp
END:VEVENT
BEGIN:VEVENT
DTSTART;TZID=America/Phoenix:20241211T170000
DTEND;TZID=America/Phoenix:20241211T220000
DTSTAMP:20260421T074331
CREATED:20240930T173821Z
LAST-MODIFIED:20241122T191154Z
UID:10026783-1733936400-1733954400@ogeezbrands.com
SUMMARY:Rialto Theatre
DESCRIPTION:
URL:https://ogeezbrands.com/event/orpheum-theater/2024-12-11/
LOCATION:Rialto Theatre\, 318 E. Congress St.\, Tucson\, AZ\, 85701
CATEGORIES:Event
ATTACH;FMTTYPE=image/webp:https://ogeezbrands.com/wp-content/uploads/2024/08/rialto-1.webp
END:VEVENT
BEGIN:VEVENT
DTSTART;TZID=America/Phoenix:20241206T170000
DTEND;TZID=America/Phoenix:20241206T220000
DTSTAMP:20260421T074331
CREATED:20250213T190736Z
LAST-MODIFIED:20250213T190736Z
UID:10034133-1733504400-1733522400@ogeezbrands.com
SUMMARY:Rialto Theatre
DESCRIPTION:
URL:https://ogeezbrands.com/event/rialto-theatre-2/2024-12-06/
LOCATION:Rialto Theatre\, 318 E. Congress St.\, Tucson\, AZ\, 85701
CATEGORIES:Event
ATTACH;FMTTYPE=image/webp:https://ogeezbrands.com/wp-content/uploads/2024/08/rialto-1.webp
END:VEVENT
BEGIN:VEVENT
DTSTART;TZID=America/Phoenix:20241206T170000
DTEND;TZID=America/Phoenix:20241206T220000
DTSTAMP:20260421T074331
CREATED:20240930T173821Z
LAST-MODIFIED:20241122T191154Z
UID:10026782-1733504400-1733522400@ogeezbrands.com
SUMMARY:Rialto Theatre
DESCRIPTION:
URL:https://ogeezbrands.com/event/orpheum-theater/2024-12-06/
LOCATION:Rialto Theatre\, 318 E. Congress St.\, Tucson\, AZ\, 85701
CATEGORIES:Event
ATTACH;FMTTYPE=image/webp:https://ogeezbrands.com/wp-content/uploads/2024/08/rialto-1.webp
END:VEVENT
BEGIN:VEVENT
DTSTART;TZID=America/Phoenix:20241203T170000
DTEND;TZID=America/Phoenix:20241203T220000
DTSTAMP:20260421T074331
CREATED:20250213T190736Z
LAST-MODIFIED:20250213T190736Z
UID:10034132-1733245200-1733263200@ogeezbrands.com
SUMMARY:Rialto Theatre
DESCRIPTION:
URL:https://ogeezbrands.com/event/rialto-theatre-2/2024-12-03/
LOCATION:Rialto Theatre\, 318 E. Congress St.\, Tucson\, AZ\, 85701
CATEGORIES:Event
ATTACH;FMTTYPE=image/webp:https://ogeezbrands.com/wp-content/uploads/2024/08/rialto-1.webp
END:VEVENT
BEGIN:VEVENT
DTSTART;TZID=America/Phoenix:20241203T170000
DTEND;TZID=America/Phoenix:20241203T220000
DTSTAMP:20260421T074331
CREATED:20240930T173821Z
LAST-MODIFIED:20241122T191154Z
UID:10026781-1733245200-1733263200@ogeezbrands.com
SUMMARY:Rialto Theatre
DESCRIPTION:
URL:https://ogeezbrands.com/event/orpheum-theater/2024-12-03/
LOCATION:Rialto Theatre\, 318 E. Congress St.\, Tucson\, AZ\, 85701
CATEGORIES:Event
ATTACH;FMTTYPE=image/webp:https://ogeezbrands.com/wp-content/uploads/2024/08/rialto-1.webp
END:VEVENT
BEGIN:VEVENT
DTSTART;TZID=America/Phoenix:20241125T180000
DTEND;TZID=America/Phoenix:20241125T220000
DTSTAMP:20260421T074331
CREATED:20250213T190736Z
LAST-MODIFIED:20250213T190736Z
UID:10034131-1732557600-1732572000@ogeezbrands.com
SUMMARY:Rialto Theatre
DESCRIPTION:
URL:https://ogeezbrands.com/event/rialto-theatre-2/2024-11-25/
LOCATION:Rialto Theatre\, 318 E. Congress St.\, Tucson\, AZ\, 85701
CATEGORIES:Event
ATTACH;FMTTYPE=image/webp:https://ogeezbrands.com/wp-content/uploads/2024/08/rialto-1.webp
END:VEVENT
BEGIN:VEVENT
DTSTART;TZID=America/Phoenix:20241125T180000
DTEND;TZID=America/Phoenix:20241125T220000
DTSTAMP:20260421T074331
CREATED:20240930T173821Z
LAST-MODIFIED:20241122T191154Z
UID:10026780-1732557600-1732572000@ogeezbrands.com
SUMMARY:Rialto Theatre
DESCRIPTION:
URL:https://ogeezbrands.com/event/orpheum-theater/2024-11-25/
LOCATION:Rialto Theatre\, 318 E. Congress St.\, Tucson\, AZ\, 85701
CATEGORIES:Event
ATTACH;FMTTYPE=image/webp:https://ogeezbrands.com/wp-content/uploads/2024/08/rialto-1.webp
END:VEVENT
END:VCALENDAR