BEGIN:VCALENDAR
VERSION:2.0
PRODID:-//OGeez! - ECPv6.6.4.2//NONSGML v1.0//EN
CALSCALE:GREGORIAN
METHOD:PUBLISH
X-ORIGINAL-URL:https://ogeezbrands.com
X-WR-CALDESC:Events for OGeez!
REFRESH-INTERVAL;VALUE=DURATION:PT1H
X-Robots-Tag:noindex
X-PUBLISHED-TTL:PT1H
BEGIN:VTIMEZONE
TZID:America/Chicago
BEGIN:DAYLIGHT
TZOFFSETFROM:-0600
TZOFFSETTO:-0500
TZNAME:CDT
DTSTART:20260308T080000
END:DAYLIGHT
BEGIN:STANDARD
TZOFFSETFROM:-0500
TZOFFSETTO:-0600
TZNAME:CST
DTSTART:20261101T070000
END:STANDARD
TZID:America/Phoenix
BEGIN:STANDARD
TZOFFSETFROM:-0700
TZOFFSETTO:-0700
TZNAME:MST
DTSTART:20260101T000000
END:STANDARD
END:VTIMEZONE
BEGIN:VEVENT
DTSTART;VALUE=DATE:20260608
DTEND;VALUE=DATE:20260609
DTSTAMP:20260422T101639
CREATED:20250522T182522Z
LAST-MODIFIED:20250522T182522Z
UID:10038764-1780876800-1780963199@ogeezbrands.com
SUMMARY:Curaleaf Dispensaries - BOGO OGEEZ!
DESCRIPTION:
URL:https://ogeezbrands.com/event/curaleaf-dispensaries-bogo-ogeez-2/2026-06-08/
LOCATION:AZ
CATEGORIES:Promo
ATTACH;FMTTYPE=image/jpeg:https://ogeezbrands.com/wp-content/uploads/2025/05/curaleaf.jpg
END:VEVENT
BEGIN:VEVENT
DTSTART;VALUE=DATE:20260608
DTEND;VALUE=DATE:20260612
DTSTAMP:20260422T101639
CREATED:20250522T184106Z
LAST-MODIFIED:20250522T184106Z
UID:10038992-1780876800-1781222399@ogeezbrands.com
SUMMARY:Vertical Dispensary - 30% OFF OGEEZ!
DESCRIPTION:
URL:https://ogeezbrands.com/event/vertical-dispensary-30-off-ogeez/2026-06-08/
LOCATION:Vertical Dispensary – Cary\, 20 Northwest Highway\, Cary\, IL\, 60013\, United States
CATEGORIES:Promo
ATTACH;FMTTYPE=image/png:https://ogeezbrands.com/wp-content/uploads/2025/05/Vertical.png
END:VEVENT
BEGIN:VEVENT
DTSTART;VALUE=DATE:20260609
DTEND;VALUE=DATE:20260610
DTSTAMP:20260422T101639
CREATED:20250522T182719Z
LAST-MODIFIED:20250522T183207Z
UID:10038821-1780963200-1781049599@ogeezbrands.com
SUMMARY:Village Dispensary - 20% OFF OGEEZ!
DESCRIPTION:
URL:https://ogeezbrands.com/event/village-dispensary-20-off-ogeez/2026-06-09/
LOCATION:Village Dispensary – Bucktown\, 1850 W Webster Avenue\, Chicago\, IL\, 60614\, United States
CATEGORIES:Promo
ATTACH;FMTTYPE=image/png:https://ogeezbrands.com/wp-content/uploads/2025/05/Village-Dispensary.png
END:VEVENT
BEGIN:VEVENT
DTSTART;VALUE=DATE:20260609
DTEND;VALUE=DATE:20260610
DTSTAMP:20260422T101639
CREATED:20250522T182910Z
LAST-MODIFIED:20250522T183133Z
UID:10038877-1780963200-1781049599@ogeezbrands.com
SUMMARY:Beyond/Hello Dispensaries - 30% OFF OGEEZ!
DESCRIPTION:
URL:https://ogeezbrands.com/event/beyond-hello-dispensaries-30-off-ogeez-2/2026-06-09/
LOCATION:Beyond/Hello – Sauget (St. Louis Metro East)\, 1401 Mississippi Ave #17\, Sauget\, 62201\, United States
CATEGORIES:Promo
ATTACH;FMTTYPE=image/jpeg:https://ogeezbrands.com/wp-content/uploads/2025/05/BeyondHello.jpg
END:VEVENT
BEGIN:VEVENT
DTSTART;VALUE=DATE:20260610
DTEND;VALUE=DATE:20260611
DTSTAMP:20260422T101639
CREATED:20260217T011456Z
LAST-MODIFIED:20260217T011457Z
UID:10049186-1781049600-1781135999@ogeezbrands.com
SUMMARY:Valley of the Sun- 40% OFF OGEEZ!
DESCRIPTION:
URL:https://ogeezbrands.com/event/valley-of-the-sun-40-off-ogeez-2/2026-06-10/
LOCATION:Valley of the Sun Medical Dispensary\, 16200 W Eddie Albert Way\,\, Goodyear\, AZ\, 85338
CATEGORIES:Promo
END:VEVENT
BEGIN:VEVENT
DTSTART;VALUE=DATE:20260611
DTEND;VALUE=DATE:20260615
DTSTAMP:20260422T101639
CREATED:20250522T191848Z
LAST-MODIFIED:20250522T192052Z
UID:10039057-1781136000-1781481599@ogeezbrands.com
SUMMARY:Altius Dispensary - Round Lake Beach 30% OFF OGEEZ!
DESCRIPTION:
URL:https://ogeezbrands.com/event/altius-dispensary-carol-stream-30-off-ogeez-2-copy/2026-06-11/
LOCATION:Altius Dispensary – Round Lake Beach\, 993 E Rollins Road\, Round Lake Beach\, IL\, 60073\, United States
CATEGORIES:Promo
ATTACH;FMTTYPE=image/jpeg:https://ogeezbrands.com/wp-content/uploads/2025/05/Altius-1.jpg
END:VEVENT
BEGIN:VEVENT
DTSTART;VALUE=DATE:20260611
DTEND;VALUE=DATE:20260615
DTSTAMP:20260422T101639
CREATED:20250522T192613Z
LAST-MODIFIED:20250522T192843Z
UID:10039109-1781136000-1781481599@ogeezbrands.com
SUMMARY:Vertical Dispensaries - 30% OFF OGEEZ!
DESCRIPTION:
URL:https://ogeezbrands.com/event/vertical-dispensaries-30-off-ogeez/2026-06-11/
LOCATION:Vertical Dispensary – Cary\, 20 Northwest Highway\, Cary\, IL\, 60013\, United States
CATEGORIES:Promo
ATTACH;FMTTYPE=image/png:https://ogeezbrands.com/wp-content/uploads/2025/05/Vertical.png
END:VEVENT
BEGIN:VEVENT
DTSTART;VALUE=DATE:20260612
DTEND;VALUE=DATE:20260613
DTSTAMP:20260422T101639
CREATED:20260217T011456Z
LAST-MODIFIED:20260217T011457Z
UID:10049187-1781222400-1781308799@ogeezbrands.com
SUMMARY:Valley of the Sun- 40% OFF OGEEZ!
DESCRIPTION:
URL:https://ogeezbrands.com/event/valley-of-the-sun-40-off-ogeez-2/2026-06-12/
LOCATION:Valley of the Sun Medical Dispensary\, 16200 W Eddie Albert Way\,\, Goodyear\, AZ\, 85338
CATEGORIES:Promo
END:VEVENT
BEGIN:VEVENT
DTSTART;VALUE=DATE:20260614
DTEND;VALUE=DATE:20260615
DTSTAMP:20260422T101639
CREATED:20260217T011456Z
LAST-MODIFIED:20260217T011457Z
UID:10049188-1781395200-1781481599@ogeezbrands.com
SUMMARY:Valley of the Sun- 40% OFF OGEEZ!
DESCRIPTION:
URL:https://ogeezbrands.com/event/valley-of-the-sun-40-off-ogeez-2/2026-06-14/
LOCATION:Valley of the Sun Medical Dispensary\, 16200 W Eddie Albert Way\,\, Goodyear\, AZ\, 85338
CATEGORIES:Promo
END:VEVENT
BEGIN:VEVENT
DTSTART;VALUE=DATE:20260615
DTEND;VALUE=DATE:20260616
DTSTAMP:20260422T101639
CREATED:20250522T182522Z
LAST-MODIFIED:20250522T182522Z
UID:10038765-1781481600-1781567999@ogeezbrands.com
SUMMARY:Curaleaf Dispensaries - BOGO OGEEZ!
DESCRIPTION:
URL:https://ogeezbrands.com/event/curaleaf-dispensaries-bogo-ogeez-2/2026-06-15/
LOCATION:AZ
CATEGORIES:Promo
ATTACH;FMTTYPE=image/jpeg:https://ogeezbrands.com/wp-content/uploads/2025/05/curaleaf.jpg
END:VEVENT
BEGIN:VEVENT
DTSTART;VALUE=DATE:20260615
DTEND;VALUE=DATE:20260619
DTSTAMP:20260422T101639
CREATED:20250522T184106Z
LAST-MODIFIED:20250522T184106Z
UID:10038993-1781481600-1781827199@ogeezbrands.com
SUMMARY:Vertical Dispensary - 30% OFF OGEEZ!
DESCRIPTION:
URL:https://ogeezbrands.com/event/vertical-dispensary-30-off-ogeez/2026-06-15/
LOCATION:Vertical Dispensary – Cary\, 20 Northwest Highway\, Cary\, IL\, 60013\, United States
CATEGORIES:Promo
ATTACH;FMTTYPE=image/png:https://ogeezbrands.com/wp-content/uploads/2025/05/Vertical.png
END:VEVENT
BEGIN:VEVENT
DTSTART;VALUE=DATE:20260616
DTEND;VALUE=DATE:20260617
DTSTAMP:20260422T101639
CREATED:20250522T182719Z
LAST-MODIFIED:20250522T183207Z
UID:10038822-1781568000-1781654399@ogeezbrands.com
SUMMARY:Village Dispensary - 20% OFF OGEEZ!
DESCRIPTION:
URL:https://ogeezbrands.com/event/village-dispensary-20-off-ogeez/2026-06-16/
LOCATION:Village Dispensary – Bucktown\, 1850 W Webster Avenue\, Chicago\, IL\, 60614\, United States
CATEGORIES:Promo
ATTACH;FMTTYPE=image/png:https://ogeezbrands.com/wp-content/uploads/2025/05/Village-Dispensary.png
END:VEVENT
BEGIN:VEVENT
DTSTART;VALUE=DATE:20260616
DTEND;VALUE=DATE:20260617
DTSTAMP:20260422T101639
CREATED:20250522T182910Z
LAST-MODIFIED:20250522T183133Z
UID:10038878-1781568000-1781654399@ogeezbrands.com
SUMMARY:Beyond/Hello Dispensaries - 30% OFF OGEEZ!
DESCRIPTION:
URL:https://ogeezbrands.com/event/beyond-hello-dispensaries-30-off-ogeez-2/2026-06-16/
LOCATION:Beyond/Hello – Sauget (St. Louis Metro East)\, 1401 Mississippi Ave #17\, Sauget\, 62201\, United States
CATEGORIES:Promo
ATTACH;FMTTYPE=image/jpeg:https://ogeezbrands.com/wp-content/uploads/2025/05/BeyondHello.jpg
END:VEVENT
BEGIN:VEVENT
DTSTART;VALUE=DATE:20260617
DTEND;VALUE=DATE:20260618
DTSTAMP:20260422T101639
CREATED:20260217T011456Z
LAST-MODIFIED:20260217T011457Z
UID:10030464-1781654400-1781740799@ogeezbrands.com
SUMMARY:Valley of the Sun- 40% OFF OGEEZ!
DESCRIPTION:
URL:https://ogeezbrands.com/event/valley-of-the-sun-40-off-ogeez-2/2026-06-17/
LOCATION:Valley of the Sun Medical Dispensary\, 16200 W Eddie Albert Way\,\, Goodyear\, AZ\, 85338
CATEGORIES:Promo
END:VEVENT
BEGIN:VEVENT
DTSTART;VALUE=DATE:20260618
DTEND;VALUE=DATE:20260622
DTSTAMP:20260422T101640
CREATED:20250522T191848Z
LAST-MODIFIED:20250522T192052Z
UID:10039058-1781740800-1782086399@ogeezbrands.com
SUMMARY:Altius Dispensary - Round Lake Beach 30% OFF OGEEZ!
DESCRIPTION:
URL:https://ogeezbrands.com/event/altius-dispensary-carol-stream-30-off-ogeez-2-copy/2026-06-18/
LOCATION:Altius Dispensary – Round Lake Beach\, 993 E Rollins Road\, Round Lake Beach\, IL\, 60073\, United States
CATEGORIES:Promo
ATTACH;FMTTYPE=image/jpeg:https://ogeezbrands.com/wp-content/uploads/2025/05/Altius-1.jpg
END:VEVENT
BEGIN:VEVENT
DTSTART;VALUE=DATE:20260618
DTEND;VALUE=DATE:20260622
DTSTAMP:20260422T101640
CREATED:20250522T192613Z
LAST-MODIFIED:20250522T192843Z
UID:10039110-1781740800-1782086399@ogeezbrands.com
SUMMARY:Vertical Dispensaries - 30% OFF OGEEZ!
DESCRIPTION:
URL:https://ogeezbrands.com/event/vertical-dispensaries-30-off-ogeez/2026-06-18/
LOCATION:Vertical Dispensary – Cary\, 20 Northwest Highway\, Cary\, IL\, 60013\, United States
CATEGORIES:Promo
ATTACH;FMTTYPE=image/png:https://ogeezbrands.com/wp-content/uploads/2025/05/Vertical.png
END:VEVENT
BEGIN:VEVENT
DTSTART;VALUE=DATE:20260619
DTEND;VALUE=DATE:20260620
DTSTAMP:20260422T101640
CREATED:20260217T011456Z
LAST-MODIFIED:20260217T011457Z
UID:10049189-1781827200-1781913599@ogeezbrands.com
SUMMARY:Valley of the Sun- 40% OFF OGEEZ!
DESCRIPTION:
URL:https://ogeezbrands.com/event/valley-of-the-sun-40-off-ogeez-2/2026-06-19/
LOCATION:Valley of the Sun Medical Dispensary\, 16200 W Eddie Albert Way\,\, Goodyear\, AZ\, 85338
CATEGORIES:Promo
END:VEVENT
BEGIN:VEVENT
DTSTART;VALUE=DATE:20260621
DTEND;VALUE=DATE:20260622
DTSTAMP:20260422T101640
CREATED:20260217T011456Z
LAST-MODIFIED:20260217T011457Z
UID:10049190-1782000000-1782086399@ogeezbrands.com
SUMMARY:Valley of the Sun- 40% OFF OGEEZ!
DESCRIPTION:
URL:https://ogeezbrands.com/event/valley-of-the-sun-40-off-ogeez-2/2026-06-21/
LOCATION:Valley of the Sun Medical Dispensary\, 16200 W Eddie Albert Way\,\, Goodyear\, AZ\, 85338
CATEGORIES:Promo
END:VEVENT
BEGIN:VEVENT
DTSTART;VALUE=DATE:20260622
DTEND;VALUE=DATE:20260623
DTSTAMP:20260422T101640
CREATED:20250522T182522Z
LAST-MODIFIED:20250522T182522Z
UID:10038766-1782086400-1782172799@ogeezbrands.com
SUMMARY:Curaleaf Dispensaries - BOGO OGEEZ!
DESCRIPTION:
URL:https://ogeezbrands.com/event/curaleaf-dispensaries-bogo-ogeez-2/2026-06-22/
LOCATION:AZ
CATEGORIES:Promo
ATTACH;FMTTYPE=image/jpeg:https://ogeezbrands.com/wp-content/uploads/2025/05/curaleaf.jpg
END:VEVENT
BEGIN:VEVENT
DTSTART;VALUE=DATE:20260622
DTEND;VALUE=DATE:20260626
DTSTAMP:20260422T101640
CREATED:20250522T184106Z
LAST-MODIFIED:20250522T184106Z
UID:10038994-1782086400-1782431999@ogeezbrands.com
SUMMARY:Vertical Dispensary - 30% OFF OGEEZ!
DESCRIPTION:
URL:https://ogeezbrands.com/event/vertical-dispensary-30-off-ogeez/2026-06-22/
LOCATION:Vertical Dispensary – Cary\, 20 Northwest Highway\, Cary\, IL\, 60013\, United States
CATEGORIES:Promo
ATTACH;FMTTYPE=image/png:https://ogeezbrands.com/wp-content/uploads/2025/05/Vertical.png
END:VEVENT
BEGIN:VEVENT
DTSTART;VALUE=DATE:20260623
DTEND;VALUE=DATE:20260624
DTSTAMP:20260422T101640
CREATED:20250522T182719Z
LAST-MODIFIED:20250522T183207Z
UID:10038823-1782172800-1782259199@ogeezbrands.com
SUMMARY:Village Dispensary - 20% OFF OGEEZ!
DESCRIPTION:
URL:https://ogeezbrands.com/event/village-dispensary-20-off-ogeez/2026-06-23/
LOCATION:Village Dispensary – Bucktown\, 1850 W Webster Avenue\, Chicago\, IL\, 60614\, United States
CATEGORIES:Promo
ATTACH;FMTTYPE=image/png:https://ogeezbrands.com/wp-content/uploads/2025/05/Village-Dispensary.png
END:VEVENT
BEGIN:VEVENT
DTSTART;VALUE=DATE:20260623
DTEND;VALUE=DATE:20260624
DTSTAMP:20260422T101640
CREATED:20250522T182910Z
LAST-MODIFIED:20250522T183133Z
UID:10038879-1782172800-1782259199@ogeezbrands.com
SUMMARY:Beyond/Hello Dispensaries - 30% OFF OGEEZ!
DESCRIPTION:
URL:https://ogeezbrands.com/event/beyond-hello-dispensaries-30-off-ogeez-2/2026-06-23/
LOCATION:Beyond/Hello – Sauget (St. Louis Metro East)\, 1401 Mississippi Ave #17\, Sauget\, 62201\, United States
CATEGORIES:Promo
ATTACH;FMTTYPE=image/jpeg:https://ogeezbrands.com/wp-content/uploads/2025/05/BeyondHello.jpg
END:VEVENT
BEGIN:VEVENT
DTSTART;VALUE=DATE:20260624
DTEND;VALUE=DATE:20260625
DTSTAMP:20260422T101640
CREATED:20260217T011456Z
LAST-MODIFIED:20260217T011457Z
UID:10049191-1782259200-1782345599@ogeezbrands.com
SUMMARY:Valley of the Sun- 40% OFF OGEEZ!
DESCRIPTION:
URL:https://ogeezbrands.com/event/valley-of-the-sun-40-off-ogeez-2/2026-06-24/
LOCATION:Valley of the Sun Medical Dispensary\, 16200 W Eddie Albert Way\,\, Goodyear\, AZ\, 85338
CATEGORIES:Promo
END:VEVENT
BEGIN:VEVENT
DTSTART;VALUE=DATE:20260625
DTEND;VALUE=DATE:20260629
DTSTAMP:20260422T101640
CREATED:20250522T191848Z
LAST-MODIFIED:20250522T192052Z
UID:10039059-1782345600-1782691199@ogeezbrands.com
SUMMARY:Altius Dispensary - Round Lake Beach 30% OFF OGEEZ!
DESCRIPTION:
URL:https://ogeezbrands.com/event/altius-dispensary-carol-stream-30-off-ogeez-2-copy/2026-06-25/
LOCATION:Altius Dispensary – Round Lake Beach\, 993 E Rollins Road\, Round Lake Beach\, IL\, 60073\, United States
CATEGORIES:Promo
ATTACH;FMTTYPE=image/jpeg:https://ogeezbrands.com/wp-content/uploads/2025/05/Altius-1.jpg
END:VEVENT
BEGIN:VEVENT
DTSTART;VALUE=DATE:20260625
DTEND;VALUE=DATE:20260629
DTSTAMP:20260422T101640
CREATED:20250522T192613Z
LAST-MODIFIED:20250522T192843Z
UID:10039111-1782345600-1782691199@ogeezbrands.com
SUMMARY:Vertical Dispensaries - 30% OFF OGEEZ!
DESCRIPTION:
URL:https://ogeezbrands.com/event/vertical-dispensaries-30-off-ogeez/2026-06-25/
LOCATION:Vertical Dispensary – Cary\, 20 Northwest Highway\, Cary\, IL\, 60013\, United States
CATEGORIES:Promo
ATTACH;FMTTYPE=image/png:https://ogeezbrands.com/wp-content/uploads/2025/05/Vertical.png
END:VEVENT
BEGIN:VEVENT
DTSTART;VALUE=DATE:20260626
DTEND;VALUE=DATE:20260627
DTSTAMP:20260422T101640
CREATED:20260217T011456Z
LAST-MODIFIED:20260217T011457Z
UID:10049192-1782432000-1782518399@ogeezbrands.com
SUMMARY:Valley of the Sun- 40% OFF OGEEZ!
DESCRIPTION:
URL:https://ogeezbrands.com/event/valley-of-the-sun-40-off-ogeez-2/2026-06-26/
LOCATION:Valley of the Sun Medical Dispensary\, 16200 W Eddie Albert Way\,\, Goodyear\, AZ\, 85338
CATEGORIES:Promo
END:VEVENT
BEGIN:VEVENT
DTSTART;VALUE=DATE:20260628
DTEND;VALUE=DATE:20260629
DTSTAMP:20260422T101640
CREATED:20260217T011456Z
LAST-MODIFIED:20260217T011457Z
UID:10049193-1782604800-1782691199@ogeezbrands.com
SUMMARY:Valley of the Sun- 40% OFF OGEEZ!
DESCRIPTION:
URL:https://ogeezbrands.com/event/valley-of-the-sun-40-off-ogeez-2/2026-06-28/
LOCATION:Valley of the Sun Medical Dispensary\, 16200 W Eddie Albert Way\,\, Goodyear\, AZ\, 85338
CATEGORIES:Promo
END:VEVENT
BEGIN:VEVENT
DTSTART;VALUE=DATE:20260629
DTEND;VALUE=DATE:20260630
DTSTAMP:20260422T101640
CREATED:20250522T182522Z
LAST-MODIFIED:20250522T182522Z
UID:10038767-1782691200-1782777599@ogeezbrands.com
SUMMARY:Curaleaf Dispensaries - BOGO OGEEZ!
DESCRIPTION:
URL:https://ogeezbrands.com/event/curaleaf-dispensaries-bogo-ogeez-2/2026-06-29/
LOCATION:AZ
CATEGORIES:Promo
ATTACH;FMTTYPE=image/jpeg:https://ogeezbrands.com/wp-content/uploads/2025/05/curaleaf.jpg
END:VEVENT
BEGIN:VEVENT
DTSTART;VALUE=DATE:20260701
DTEND;VALUE=DATE:20260702
DTSTAMP:20260422T101640
CREATED:20260217T011456Z
LAST-MODIFIED:20260217T011457Z
UID:10030465-1782864000-1782950399@ogeezbrands.com
SUMMARY:Valley of the Sun- 40% OFF OGEEZ!
DESCRIPTION:
URL:https://ogeezbrands.com/event/valley-of-the-sun-40-off-ogeez-2/2026-07-01/
LOCATION:Valley of the Sun Medical Dispensary\, 16200 W Eddie Albert Way\,\, Goodyear\, AZ\, 85338
CATEGORIES:Promo
END:VEVENT
BEGIN:VEVENT
DTSTART;VALUE=DATE:20260702
DTEND;VALUE=DATE:20260706
DTSTAMP:20260422T101640
CREATED:20250522T192613Z
LAST-MODIFIED:20250522T192843Z
UID:10039112-1782950400-1783295999@ogeezbrands.com
SUMMARY:Vertical Dispensaries - 30% OFF OGEEZ!
DESCRIPTION:
URL:https://ogeezbrands.com/event/vertical-dispensaries-30-off-ogeez/2026-07-02/
LOCATION:Vertical Dispensary – Cary\, 20 Northwest Highway\, Cary\, IL\, 60013\, United States
CATEGORIES:Promo
ATTACH;FMTTYPE=image/png:https://ogeezbrands.com/wp-content/uploads/2025/05/Vertical.png
END:VEVENT
END:VCALENDAR